BEGIN:VCALENDAR
VERSION:2.0
CALSCALE:GREGORIAN
PRODID:adamgibbons/ics
METHOD:PUBLISH
X-PUBLISHED-TTL:PT1H
BEGIN:VEVENT
UID:21448@demo.gancio.org
SUMMARY:Bailar el agua 🌊
DTSTAMP:20260423T111637Z
DTSTART:20260509T090000Z
DTEND:20260509T120000Z
URL:https://demo.gancio.org/event/bailar-el-agua
GEO:40.388732;-3.666717
LOCATION:La Villana de Vallekas - Calle Sierra de alquife 12
STATUS:CONFIRMED
CATEGORIES:Danza,Investigación del movimiento,Taller,laboratorio ciudadano
END:VEVENT
BEGIN:VEVENT
UID:21449@demo.gancio.org
SUMMARY:Bailar el agua 🌊
DTSTAMP:20260423T111637Z
DTSTART:20260509T090000Z
DTEND:20260509T120000Z
URL:https://demo.gancio.org/event/bailar-el-agua-1
GEO:40.388732;-3.666717
LOCATION:La Villana de Vallekas - Calle Sierra de alquife 12
STATUS:CONFIRMED
CATEGORIES:Danza,Investigación del movimiento,Taller,laboratorio ciudadano
END:VEVENT
BEGIN:VEVENT
UID:21450@demo.gancio.org
SUMMARY:Bailar el agua 🌊
DTSTAMP:20260423T111637Z
DTSTART:20260606T090000Z
DTEND:20260606T120000Z
URL:https://demo.gancio.org/event/bailar-el-agua-2
GEO:40.388732;-3.666717
LOCATION:La Villana de Vallekas - Calle Sierra de alquife 12
STATUS:CONFIRMED
CATEGORIES:Danza,Investigación del movimiento,Taller,laboratorio ciudadano
END:VEVENT
BEGIN:VEVENT
UID:21451@demo.gancio.org
SUMMARY:Bailar el agua 🌊
DTSTAMP:20260423T111637Z
DTSTART:20260704T090000Z
DTEND:20260704T120000Z
URL:https://demo.gancio.org/event/bailar-el-agua-3
GEO:40.388732;-3.666717
LOCATION:La Villana de Vallekas - Calle Sierra de alquife 12
STATUS:CONFIRMED
CATEGORIES:Danza,Investigación del movimiento,Taller,laboratorio ciudadano
END:VEVENT
END:VCALENDAR
